BEGIN:VCALENDAR
VERSION:2.0
PRODID:-//hacksw/handcal//NONSGML v1.0//EN
BEGIN:VEVENT
DTSTART:20151203T183000
DTEND:20151203T235500
LOCATION:Monde
ORGANIZER;CN=Guillaume HERPE:MAILTO:guillaume.herpe@gmail.com
SUMMARY:Saint Nicolas 2015 (Paris, Nancy, Lyon, Grenoble, Strasbourg, Montpellier, Besançon, Compiègne, Dubaï)
DESCRIPTION:\nChers Alumni,\nRetrouvons-nous le 3 décembre autour d’un pot convivial et faisons de la Saint-Nicolas pour les ICN ce qu'est la Saint-Patrick pour nos amis Irlandais !\nCette Saint Nicolas 2015 aura...
URL:https://www.alumnicn.com/en/event/saint-nicolas-2015-paris-nancy-lyon-grenoble-strasbourg-montpellier-besancon-compiegne-dubai/2015/12/03/13
BEGIN:VALARM
TRIGGER:-P0DT1H0M0S
ACTION:DISPLAY
END:VALARM
END:VEVENT
END:VCALENDAR