BEGIN:VCALENDAR
VERSION:2.0
PRODID:-//hacksw/handcal//NONSGML v1.0//EN
BEGIN:VEVENT
DTSTART:20180614T190000
DTEND:20180614T235500
LOCATION:Galeries Lafayette Paris Haussmann \n40, Boulevard Haussmann \n75009 PARIS
ORGANIZER;CN=ICN ALUMNI:MAILTO:contact@alumnicn.com
SUMMARY:AG I Prix ICN I Cocktail I Party !
DESCRIPTION:Chers Alumni, Réservez dès à présent la date du 14 JUIN pour notre rendez-vous annuel ICN ALUMNI. Nous vous attendons nombreux, dans  le cadre somptueux des Galeries Lafayette boulevard...
URL:https://www.alumnicn.com/en/event/ag-i-prix-icn-i-cocktail-i-party/2018/06/14/522
BEGIN:VALARM
TRIGGER:-P0DT1H0M0S
ACTION:DISPLAY
END:VALARM
END:VEVENT
END:VCALENDAR