BEGIN:VCALENDAR
VERSION:2.0
PRODID:-//hacksw/handcal//NONSGML v1.0//EN
BEGIN:VEVENT
DTSTART:20161208T190000
DTEND:20161208T210000
LOCATION:Marché de Noël \nN/C
ORGANIZER;CN=Aurélie DE FRESLON:MAILTO:aurelie.defreslon@gmail.com
SUMMARY:Saint-Nicolas ICN Alumni Montbéliard
DESCRIPTION:\nRendez-vous le 8 décembre au Marché de Noël de Montbéliard pour cette nouvelle Saint-Nicolas !\n
URL:https://www.alumnicn.com/fr/event/saint-nicolas-icn-alumni-montbeliard/2016/12/08/267
BEGIN:VALARM
TRIGGER:-P0DT1H0M0S
ACTION:DISPLAY
END:VALARM
END:VEVENT
END:VCALENDAR