BEGIN:VCALENDAR
VERSION:2.0
PRODID:-//hacksw/handcal//NONSGML v1.0//EN
BEGIN:VEVENT
DTSTART:20170929T100000
DTEND:20170929T170000
LOCATION:Luxembourg Congrès (European Convention Center Luxembourg), Luxembourg-Kirchberg \nPlace de l’Europe \nL-1499 LUXEMBOURG
ORGANIZER;CN=ICN ALUMNI:MAILTO:contact@alumnicn.com
SUMMARY:4ème édition d’Unicareers.lu, le salon de recrutement des Etudiants et Jeunes Actifs
DESCRIPTION:\nLa 4ème édition d’Unicareers.lu, le salon de recrutement des Etudiants et Jeunes Actifs poursuivra son développement avec près de 130 exposants pour plus de 2500 postes à pourvoir (stages, CDD et...
URL:https://www.alumnicn.com/fr/event/4eme-edition-d-unicareers-lu-le-salon-de-recrutement-des-etudiants-et-jeunes-actifs/2017/09/29/429
BEGIN:VALARM
TRIGGER:-P0DT1H0M0S
ACTION:DISPLAY
END:VALARM
END:VEVENT
END:VCALENDAR