BEGIN:VCALENDAR
VERSION:2.0
PRODID:-//hacksw/handcal//NONSGML v1.0//EN
BEGIN:VEVENT
DTSTART:20180118T190000
DTEND:20180118T220000
LOCATION:Barbier qui fume \n51, Rue d'Esch-sur-Alzette \n59800 LILLE
ORGANIZER;CN=Isabelle TALON BLANCK:MAILTO:isabelle.talon@wanadoo.fr
SUMMARY:Soirée ICN Lille
DESCRIPTION:\nFort du succès de la Saint-Nicolas organisée le 6 décembre dernier, nous vous donnons rendez-vous pour notre première soirée de 2018 !\n
URL:https://www.alumnicn.com/fr/event/soiree-icn-lille/2018/01/18/490
BEGIN:VALARM
TRIGGER:-P0DT1H0M0S
ACTION:DISPLAY
END:VALARM
END:VEVENT
END:VCALENDAR