BEGIN:VCALENDAR
VERSION:2.0
PRODID:-//hacksw/handcal//NONSGML v1.0//EN
BEGIN:VEVENT
DTSTART:20180220T190000
DTEND:20180220T233000
LOCATION:Hôtel de ville \n1, Place Stanislas \n54000 NANCY
ORGANIZER;CN=ICN ALUMNI:MAILTO:contact@alumnicn.com
SUMMARY:Prix  Jeune ICN 2018
DESCRIPTION:Quand la lumière du jour s’envolera pour laisser place à un drap bleu sur la célèbre place nancéienne, le moment sera venu de commencer les festivités… \n C’est dans les grands salons de l’hôtel de...
URL:https://www.alumnicn.com/fr/event/prix-jeune-icn-2018/2018/02/20/495
BEGIN:VALARM
TRIGGER:-P0DT1H0M0S
ACTION:DISPLAY
END:VALARM
END:VEVENT
END:VCALENDAR