BEGIN:VCALENDAR
VERSION:2.0
PRODID:-//hacksw/handcal//NONSGML v1.0//EN
BEGIN:VEVENT
DTSTART:20180627T200000
DTEND:20180627T233000
LOCATION:Guinguette chez Alriq \nZA Quai des Queyries, Port Bastide \n33100 BORDEAUX
ORGANIZER;CN=Emmanuel MATT:MAILTO:emmanuel.matt@gmail.com
SUMMARY:Dîner Guinguette au bord de la Garonne  Groupe Bordeaux Nouvelle-Aquitaine
DESCRIPTION:A l'ombre du soleil - oui, il arrêtera un jour de pleuvoir, même à Bordeaux - au bord de la Garonne, rive droite, là où le point de vue sur le Bordeaux Unesco est le plus beau, on retrouve pour notre ...
URL:https://www.alumnicn.com/fr/event/diner-guinguette-au-bord-de-la-garonne-groupe-bordeaux-nouvelle-aquitaine/2018/06/27/536
BEGIN:VALARM
TRIGGER:-P0DT1H0M0S
ACTION:DISPLAY
END:VALARM
END:VEVENT
END:VCALENDAR