BEGIN:VCALENDAR
VERSION:2.0
PRODID:-//hacksw/handcal//NONSGML v1.0//EN
BEGIN:VEVENT
DTSTART:20180718T183000
DTEND:20180719T193000
LOCATION:AMARIS
ORGANIZER;CN=Thomas BUC:MAILTO:tbuc@amaris.com
SUMMARY:Afterwork AMARIS
DESCRIPTION:Have the opportunity to meet our Financial Teams for international financial positions ! Limited places, to register send your CV to talent@amaris.com !  
URL:https://www.alumnicn.com/fr/event/afterwork-amaris/2018/07/18/539
BEGIN:VALARM
TRIGGER:-P0DT1H0M0S
ACTION:DISPLAY
END:VALARM
END:VEVENT
END:VCALENDAR