BEGIN:VCALENDAR
VERSION:2.0
PRODID:-//hacksw/handcal//NONSGML v1.0//EN
BEGIN:VEVENT
DTSTART:20190628T200000
DTEND:20190628T230500
LOCATION:quartier Toutes aides, Nantes
ORGANIZER;CN=ICN ALUMNI:MAILTO:contact@alumnicn.com
SUMMARY:Rencontre Alumn'ICN Nantes
DESCRIPTION:Message de Virginie Varaigne (ICN PGE 2013) :\nBonjour chers AlumnICN,\nLors de la dernière rencontre nous avons eu un très sympathique dîner entre AlumnICN, de plus de 25 ans de promotions...
URL:https://www.alumnicn.com/fr/event/rencontre-alumn-icn-nantes/2019/06/28/610
BEGIN:VALARM
TRIGGER:-P0DT1H0M0S
ACTION:DISPLAY
END:VALARM
END:VEVENT
END:VCALENDAR