BEGIN:VCALENDAR
VERSION:2.0
PRODID:-//hacksw/handcal//NONSGML v1.0//EN
BEGIN:VEVENT
DTSTART:20190705T170000
DTEND:20190728T170500
LOCATION:Avignon
ORGANIZER;CN=Karine KUREK:MAILTO:karine.kurek@wanadoo.fr
SUMMARY:Festival Off d'Avignon au Théâtre l'Arrache-Coeur
DESCRIPTION:Bonjour à tous,\nJe suis Karine Kurek, ICN Promo 96.Je jouerai au Festival Off d'Avignon au Théâtre l'Arrache-Coeur du 5 au 28 juillet (relâche les mercredis 10, 17 et 24). Kelka est mon nom...
URL:https://www.alumnicn.com/fr/event/festival-off-d-avignon-au-theatre-l-arrache-coeur/2019/07/05/617
BEGIN:VALARM
TRIGGER:-P0DT1H0M0S
ACTION:DISPLAY
END:VALARM
END:VEVENT
END:VCALENDAR