BEGIN:VCALENDAR
VERSION:2.0
PRODID:-//hacksw/handcal//NONSGML v1.0//EN
BEGIN:VEVENT
DTSTART:20201008T120000
DTEND:20201008T130000
LOCATION:
ORGANIZER;CN=ICN ALUMNI:MAILTO:contact@alumnicn.com
SUMMARY:DIGITAL TALKS - Manon LEBUGLE (PGE 2016 & LDM 2017) Chef de produit horlogerie chez CHANEL
DESCRIPTION:Venez échanger sur Zoom avec Manon LEBUGLE (PGE 2016 & LDM 2017) Chef de produit horlogerie chez CHANEL à Paris.\nJeudi 8 octobre 202012h00/13h00\nLe lien Zoom vous sera envoyé une fois votre...
URL:https://www.alumnicn.com/fr/event/digital-talks-manon-lebugle-pge-2016-ldm-2017-chef-de-produit-horlogerie-chez-chanel/2020/10/08/707
BEGIN:VALARM
TRIGGER:-P0DT1H0M0S
ACTION:DISPLAY
END:VALARM
END:VEVENT
END:VCALENDAR